BEGIN:VCALENDAR
VERSION:2.0
PRODID:-//ModenaBimbi - ECPv6.15.16.1//NONSGML v1.0//EN
CALSCALE:GREGORIAN
METHOD:PUBLISH
X-WR-CALNAME:ModenaBimbi
X-ORIGINAL-URL:https://www.modenabimbi.it
X-WR-CALDESC:Eventi per ModenaBimbi
REFRESH-INTERVAL;VALUE=DURATION:PT1H
X-Robots-Tag:noindex
X-PUBLISHED-TTL:PT1H
BEGIN:VTIMEZONE
TZID:Europe/Rome
BEGIN:DAYLIGHT
TZOFFSETFROM:+0100
TZOFFSETTO:+0200
TZNAME:CEST
DTSTART:20240331T010000
END:DAYLIGHT
BEGIN:STANDARD
TZOFFSETFROM:+0200
TZOFFSETTO:+0100
TZNAME:CET
DTSTART:20241027T010000
END:STANDARD
BEGIN:DAYLIGHT
TZOFFSETFROM:+0100
TZOFFSETTO:+0200
TZNAME:CEST
DTSTART:20250330T010000
END:DAYLIGHT
BEGIN:STANDARD
TZOFFSETFROM:+0200
TZOFFSETTO:+0100
TZNAME:CET
DTSTART:20251026T010000
END:STANDARD
BEGIN:DAYLIGHT
TZOFFSETFROM:+0100
TZOFFSETTO:+0200
TZNAME:CEST
DTSTART:20260329T010000
END:DAYLIGHT
BEGIN:STANDARD
TZOFFSETFROM:+0200
TZOFFSETTO:+0100
TZNAME:CET
DTSTART:20261025T010000
END:STANDARD
END:VTIMEZONE
BEGIN:VEVENT
DTSTART;TZID=Europe/Rome:20251220T153000
DTEND;TZID=Europe/Rome:20251220T183000
DTSTAMP:20260421T162902
CREATED:20251201T161848Z
LAST-MODIFIED:20251213T124948Z
UID:10004632-1766244600-1766255400@www.modenabimbi.it
SUMMARY:Giostra Antica di piazza Roma
DESCRIPTION:Dal 21 novembre al 1° febbraio Piazza Roma si trasforma in un luogo incantato grazie alla Giostra Antica in stile Liberty\, con cavalli e carrozze originali in legno\, costruita da artigiani di Wiesbaden. Un’attrazione che profuma di tradizione\, capace di stupire i bambini di oggi e risvegliare i ricordi dei nonni e dei genitori di ieri. \nLa giostra sarà cuore pulsante della piazza\, con un’atmosfera romantica e festosa e animazioni gratuite dedicate ai più piccoli: maghi\, clown\, giocolieri\, truccabimbi\, sculture di palloncini\, laboratori creativi e baby dance. Una nuova tappa del Natale in centro storico\, insieme al Villaggio di Babbo Natale e alla Casa della Befana. \n🎄 Un modo speciale per vivere il Natale in città\, tra luci\, musica\, stupore e sorrisi. \n🎟️ Biglietto: €3\, gratuito accompagnatore in piedi. Abbonamento 4 biglietti €10. \n👉 Programma completo: https://www.modenabimbi.it/wp-content/uploads/2025/12/Giostra-Antica-di-piazza-Roma-.pdf \nPer info:\ninfo@divertiamo.com
URL:https://www.modenabimbi.it/evento-singolo/giostra-antica-di-piazza-roma/2025-12-20/
LOCATION:Piazza Roma\, Modena
CATEGORIES:Animazione,Baby dance,Festa,Gioco,Post,Truccabimbi
ATTACH;FMTTYPE=image/jpeg:https://www.modenabimbi.it/wp-content/uploads/2025/12/Giostra-Antica-di-piazza-Roma--e1764605887483.jpg
END:VEVENT
BEGIN:VEVENT
DTSTART;VALUE=DATE:20251220
DTEND;VALUE=DATE:20251221
DTSTAMP:20260421T162902
CREATED:20251201T155850Z
LAST-MODIFIED:20251201T155850Z
UID:10004606-1766221200-1766250000@www.modenabimbi.it
SUMMARY:Casa della Befana
DESCRIPTION:In Largo San Francesco torna la casetta più amata dai bambini: la Casa della Befana\, un luogo magico dove ogni weekend – dal 6 dicembre al 6 gennaio – la simpatica vecchina accoglie bambini e famiglie con laboratori creativi\, letture\, animazioni\, concerti e tante attività dedicate ai più piccoli. \nOgni sabato pomeriggio e ogni domenica\, la casetta si anima grazie alla collaborazione con associazioni culturali\, artistiche e di volontariato della città\, creando un ricco cartellone di iniziative pensate per vivere la festa con gioia e condivisione.\nA rotazione troverai laboratori di burattini\, origami e fumetti\, letture animate\, spettacoli musicali\, truccabimbi\, giochi\, sfide natalizie e tanto altro\, fino all’arrivo della Befana e alla chiusura della rassegna. \nUn’occasione speciale per respirare l’atmosfera natalizia insieme\, tra magia\, creatività e sorrisi. \n👉 Programma completo: https://www.modenabimbi.it/wp-content/uploads/2025/12/Casa-della-Befana.pdf \nPer info:\ninfo@modenamoremio.it\n0598751179
URL:https://www.modenabimbi.it/evento-singolo/casa-della-befana/2025-12-20/
LOCATION:Largo San Francesco\, Modena
CATEGORIES:Animazione,Befana,Festa,Gioco,Laboratorio per bambini,Letture animate,Post,Spettacolo,Truccabimbi
ATTACH;FMTTYPE=image/jpeg:https://www.modenabimbi.it/wp-content/uploads/2025/12/Casa-della-Befana-e1764604459113.jpg
END:VEVENT
BEGIN:VEVENT
DTSTART;TZID=Europe/Rome:20251214T153000
DTEND;TZID=Europe/Rome:20251214T183000
DTSTAMP:20260421T162902
CREATED:20251201T161848Z
LAST-MODIFIED:20251213T124948Z
UID:10004631-1765726200-1765737000@www.modenabimbi.it
SUMMARY:Giostra Antica di piazza Roma
DESCRIPTION:Dal 21 novembre al 1° febbraio Piazza Roma si trasforma in un luogo incantato grazie alla Giostra Antica in stile Liberty\, con cavalli e carrozze originali in legno\, costruita da artigiani di Wiesbaden. Un’attrazione che profuma di tradizione\, capace di stupire i bambini di oggi e risvegliare i ricordi dei nonni e dei genitori di ieri. \nLa giostra sarà cuore pulsante della piazza\, con un’atmosfera romantica e festosa e animazioni gratuite dedicate ai più piccoli: maghi\, clown\, giocolieri\, truccabimbi\, sculture di palloncini\, laboratori creativi e baby dance. Una nuova tappa del Natale in centro storico\, insieme al Villaggio di Babbo Natale e alla Casa della Befana. \n🎄 Un modo speciale per vivere il Natale in città\, tra luci\, musica\, stupore e sorrisi. \n🎟️ Biglietto: €3\, gratuito accompagnatore in piedi. Abbonamento 4 biglietti €10. \n👉 Programma completo: https://www.modenabimbi.it/wp-content/uploads/2025/12/Giostra-Antica-di-piazza-Roma-.pdf \nPer info:\ninfo@divertiamo.com
URL:https://www.modenabimbi.it/evento-singolo/giostra-antica-di-piazza-roma/2025-12-14/
LOCATION:Piazza Roma\, Modena
CATEGORIES:Animazione,Baby dance,Festa,Gioco,Post,Truccabimbi
ATTACH;FMTTYPE=image/jpeg:https://www.modenabimbi.it/wp-content/uploads/2025/12/Giostra-Antica-di-piazza-Roma--e1764605887483.jpg
END:VEVENT
BEGIN:VEVENT
DTSTART;TZID=Europe/Rome:20251214T100000
DTEND;TZID=Europe/Rome:20251214T180000
DTSTAMP:20260421T162902
CREATED:20251121T155453Z
LAST-MODIFIED:20251121T155453Z
UID:10004582-1765706400-1765735200@www.modenabimbi.it
SUMMARY:Grande mercatino di Natale
DESCRIPTION:Mercatino di natale con laboratori per bambini gratuiti casa di Babbo Natale trattori illuminati concerto gospel
URL:https://www.modenabimbi.it/evento-singolo/grande-mercatino-di-natale/
LOCATION:Piazza Andreoli\, San Possidonio
CATEGORIES:Festa,Laboratorio per bambini,Mercatino,Natale
ATTACH;FMTTYPE=image/jpeg:https://www.modenabimbi.it/wp-content/uploads/2025/11/Grande-mercatino-di-Natale-e1763740387315.jpeg
END:VEVENT
BEGIN:VEVENT
DTSTART;VALUE=DATE:20251214
DTEND;VALUE=DATE:20251215
DTSTAMP:20260421T162902
CREATED:20251201T155850Z
LAST-MODIFIED:20251201T155850Z
UID:10004605-1765702800-1765731600@www.modenabimbi.it
SUMMARY:Casa della Befana
DESCRIPTION:In Largo San Francesco torna la casetta più amata dai bambini: la Casa della Befana\, un luogo magico dove ogni weekend – dal 6 dicembre al 6 gennaio – la simpatica vecchina accoglie bambini e famiglie con laboratori creativi\, letture\, animazioni\, concerti e tante attività dedicate ai più piccoli. \nOgni sabato pomeriggio e ogni domenica\, la casetta si anima grazie alla collaborazione con associazioni culturali\, artistiche e di volontariato della città\, creando un ricco cartellone di iniziative pensate per vivere la festa con gioia e condivisione.\nA rotazione troverai laboratori di burattini\, origami e fumetti\, letture animate\, spettacoli musicali\, truccabimbi\, giochi\, sfide natalizie e tanto altro\, fino all’arrivo della Befana e alla chiusura della rassegna. \nUn’occasione speciale per respirare l’atmosfera natalizia insieme\, tra magia\, creatività e sorrisi. \n👉 Programma completo: https://www.modenabimbi.it/wp-content/uploads/2025/12/Casa-della-Befana.pdf \nPer info:\ninfo@modenamoremio.it\n0598751179
URL:https://www.modenabimbi.it/evento-singolo/casa-della-befana/2025-12-14/
LOCATION:Largo San Francesco\, Modena
CATEGORIES:Animazione,Befana,Festa,Gioco,Laboratorio per bambini,Letture animate,Post,Spettacolo,Truccabimbi
ATTACH;FMTTYPE=image/jpeg:https://www.modenabimbi.it/wp-content/uploads/2025/12/Casa-della-Befana-e1764604459113.jpg
END:VEVENT
BEGIN:VEVENT
DTSTART;TZID=Europe/Rome:20251213T153000
DTEND;TZID=Europe/Rome:20251213T183000
DTSTAMP:20260421T162902
CREATED:20251201T161848Z
LAST-MODIFIED:20251213T124948Z
UID:10004630-1765639800-1765650600@www.modenabimbi.it
SUMMARY:Giostra Antica di piazza Roma
DESCRIPTION:Dal 21 novembre al 1° febbraio Piazza Roma si trasforma in un luogo incantato grazie alla Giostra Antica in stile Liberty\, con cavalli e carrozze originali in legno\, costruita da artigiani di Wiesbaden. Un’attrazione che profuma di tradizione\, capace di stupire i bambini di oggi e risvegliare i ricordi dei nonni e dei genitori di ieri. \nLa giostra sarà cuore pulsante della piazza\, con un’atmosfera romantica e festosa e animazioni gratuite dedicate ai più piccoli: maghi\, clown\, giocolieri\, truccabimbi\, sculture di palloncini\, laboratori creativi e baby dance. Una nuova tappa del Natale in centro storico\, insieme al Villaggio di Babbo Natale e alla Casa della Befana. \n🎄 Un modo speciale per vivere il Natale in città\, tra luci\, musica\, stupore e sorrisi. \n🎟️ Biglietto: €3\, gratuito accompagnatore in piedi. Abbonamento 4 biglietti €10. \n👉 Programma completo: https://www.modenabimbi.it/wp-content/uploads/2025/12/Giostra-Antica-di-piazza-Roma-.pdf \nPer info:\ninfo@divertiamo.com
URL:https://www.modenabimbi.it/evento-singolo/giostra-antica-di-piazza-roma/2025-12-13/
LOCATION:Piazza Roma\, Modena
CATEGORIES:Animazione,Baby dance,Festa,Gioco,Post,Truccabimbi
ATTACH;FMTTYPE=image/jpeg:https://www.modenabimbi.it/wp-content/uploads/2025/12/Giostra-Antica-di-piazza-Roma--e1764605887483.jpg
END:VEVENT
BEGIN:VEVENT
DTSTART;VALUE=DATE:20251213
DTEND;VALUE=DATE:20251214
DTSTAMP:20260421T162902
CREATED:20251201T155850Z
LAST-MODIFIED:20251201T155850Z
UID:10004604-1765616400-1765645200@www.modenabimbi.it
SUMMARY:Casa della Befana
DESCRIPTION:In Largo San Francesco torna la casetta più amata dai bambini: la Casa della Befana\, un luogo magico dove ogni weekend – dal 6 dicembre al 6 gennaio – la simpatica vecchina accoglie bambini e famiglie con laboratori creativi\, letture\, animazioni\, concerti e tante attività dedicate ai più piccoli. \nOgni sabato pomeriggio e ogni domenica\, la casetta si anima grazie alla collaborazione con associazioni culturali\, artistiche e di volontariato della città\, creando un ricco cartellone di iniziative pensate per vivere la festa con gioia e condivisione.\nA rotazione troverai laboratori di burattini\, origami e fumetti\, letture animate\, spettacoli musicali\, truccabimbi\, giochi\, sfide natalizie e tanto altro\, fino all’arrivo della Befana e alla chiusura della rassegna. \nUn’occasione speciale per respirare l’atmosfera natalizia insieme\, tra magia\, creatività e sorrisi. \n👉 Programma completo: https://www.modenabimbi.it/wp-content/uploads/2025/12/Casa-della-Befana.pdf \nPer info:\ninfo@modenamoremio.it\n0598751179
URL:https://www.modenabimbi.it/evento-singolo/casa-della-befana/2025-12-13/
LOCATION:Largo San Francesco\, Modena
CATEGORIES:Animazione,Befana,Festa,Gioco,Laboratorio per bambini,Letture animate,Post,Spettacolo,Truccabimbi
ATTACH;FMTTYPE=image/jpeg:https://www.modenabimbi.it/wp-content/uploads/2025/12/Casa-della-Befana-e1764604459113.jpg
END:VEVENT
BEGIN:VEVENT
DTSTART;TZID=Europe/Rome:20251208T153000
DTEND;TZID=Europe/Rome:20251208T183000
DTSTAMP:20260421T162902
CREATED:20251201T161848Z
LAST-MODIFIED:20251213T124948Z
UID:10004629-1765207800-1765218600@www.modenabimbi.it
SUMMARY:Giostra Antica di piazza Roma
DESCRIPTION:Dal 21 novembre al 1° febbraio Piazza Roma si trasforma in un luogo incantato grazie alla Giostra Antica in stile Liberty\, con cavalli e carrozze originali in legno\, costruita da artigiani di Wiesbaden. Un’attrazione che profuma di tradizione\, capace di stupire i bambini di oggi e risvegliare i ricordi dei nonni e dei genitori di ieri. \nLa giostra sarà cuore pulsante della piazza\, con un’atmosfera romantica e festosa e animazioni gratuite dedicate ai più piccoli: maghi\, clown\, giocolieri\, truccabimbi\, sculture di palloncini\, laboratori creativi e baby dance. Una nuova tappa del Natale in centro storico\, insieme al Villaggio di Babbo Natale e alla Casa della Befana. \n🎄 Un modo speciale per vivere il Natale in città\, tra luci\, musica\, stupore e sorrisi. \n🎟️ Biglietto: €3\, gratuito accompagnatore in piedi. Abbonamento 4 biglietti €10. \n👉 Programma completo: https://www.modenabimbi.it/wp-content/uploads/2025/12/Giostra-Antica-di-piazza-Roma-.pdf \nPer info:\ninfo@divertiamo.com
URL:https://www.modenabimbi.it/evento-singolo/giostra-antica-di-piazza-roma/2025-12-08/
LOCATION:Piazza Roma\, Modena
CATEGORIES:Animazione,Baby dance,Festa,Gioco,Post,Truccabimbi
ATTACH;FMTTYPE=image/jpeg:https://www.modenabimbi.it/wp-content/uploads/2025/12/Giostra-Antica-di-piazza-Roma--e1764605887483.jpg
END:VEVENT
BEGIN:VEVENT
DTSTART;VALUE=DATE:20251208
DTEND;VALUE=DATE:20251209
DTSTAMP:20260421T162902
CREATED:20251201T155850Z
LAST-MODIFIED:20251201T155850Z
UID:10004603-1765184400-1765213200@www.modenabimbi.it
SUMMARY:Casa della Befana
DESCRIPTION:In Largo San Francesco torna la casetta più amata dai bambini: la Casa della Befana\, un luogo magico dove ogni weekend – dal 6 dicembre al 6 gennaio – la simpatica vecchina accoglie bambini e famiglie con laboratori creativi\, letture\, animazioni\, concerti e tante attività dedicate ai più piccoli. \nOgni sabato pomeriggio e ogni domenica\, la casetta si anima grazie alla collaborazione con associazioni culturali\, artistiche e di volontariato della città\, creando un ricco cartellone di iniziative pensate per vivere la festa con gioia e condivisione.\nA rotazione troverai laboratori di burattini\, origami e fumetti\, letture animate\, spettacoli musicali\, truccabimbi\, giochi\, sfide natalizie e tanto altro\, fino all’arrivo della Befana e alla chiusura della rassegna. \nUn’occasione speciale per respirare l’atmosfera natalizia insieme\, tra magia\, creatività e sorrisi. \n👉 Programma completo: https://www.modenabimbi.it/wp-content/uploads/2025/12/Casa-della-Befana.pdf \nPer info:\ninfo@modenamoremio.it\n0598751179
URL:https://www.modenabimbi.it/evento-singolo/casa-della-befana/2025-12-08/
LOCATION:Largo San Francesco\, Modena
CATEGORIES:Animazione,Befana,Festa,Gioco,Laboratorio per bambini,Letture animate,Post,Spettacolo,Truccabimbi
ATTACH;FMTTYPE=image/jpeg:https://www.modenabimbi.it/wp-content/uploads/2025/12/Casa-della-Befana-e1764604459113.jpg
END:VEVENT
BEGIN:VEVENT
DTSTART;TZID=Europe/Rome:20251208T090000
DTEND;TZID=Europe/Rome:20251208T170000
DTSTAMP:20260421T162902
CREATED:20251201T154636Z
LAST-MODIFIED:20251201T154636Z
UID:10004600-1765184400-1765213200@www.modenabimbi.it
SUMMARY:Mercatini di natale Montegibbio
DESCRIPTION:MERCATINI DI NATALE SOLIDALE A MONTEGIBBIO\nUna festa natalizia che scalda il cuore!\nIl Circolo Boschetti Alberti\, con il patrocinio del comune di Sassuolo e la partecipazione di associazioni del territorio e talentuosi artigiani locali\, invita tutti a un evento dove storia\, cultura e tradizione si intrecciano in un meraviglioso abbraccio.
URL:https://www.modenabimbi.it/evento-singolo/mercatini-di-natale-montegibbio/
LOCATION:Castello di Montegibbio\, Via castello 6\, Sassuolo
CATEGORIES:Festa,Gioco,Gite all'aria aperta,Laboratorio per bambini,Mercatino,Natale,Visita guidata
ATTACH;FMTTYPE=image/jpeg:https://www.modenabimbi.it/wp-content/uploads/2025/12/Mercatini-di-natale-Montegibbio-e1764603908683.jpg
ORGANIZER;CN="Circolo Boschetti Alberti":MAILTO:circolo.boschetti@virgilio.it
END:VEVENT
BEGIN:VEVENT
DTSTART;TZID=Europe/Rome:20251207T153000
DTEND;TZID=Europe/Rome:20251207T183000
DTSTAMP:20260421T162902
CREATED:20251201T161848Z
LAST-MODIFIED:20251213T124948Z
UID:10004628-1765121400-1765132200@www.modenabimbi.it
SUMMARY:Giostra Antica di piazza Roma
DESCRIPTION:Dal 21 novembre al 1° febbraio Piazza Roma si trasforma in un luogo incantato grazie alla Giostra Antica in stile Liberty\, con cavalli e carrozze originali in legno\, costruita da artigiani di Wiesbaden. Un’attrazione che profuma di tradizione\, capace di stupire i bambini di oggi e risvegliare i ricordi dei nonni e dei genitori di ieri. \nLa giostra sarà cuore pulsante della piazza\, con un’atmosfera romantica e festosa e animazioni gratuite dedicate ai più piccoli: maghi\, clown\, giocolieri\, truccabimbi\, sculture di palloncini\, laboratori creativi e baby dance. Una nuova tappa del Natale in centro storico\, insieme al Villaggio di Babbo Natale e alla Casa della Befana. \n🎄 Un modo speciale per vivere il Natale in città\, tra luci\, musica\, stupore e sorrisi. \n🎟️ Biglietto: €3\, gratuito accompagnatore in piedi. Abbonamento 4 biglietti €10. \n👉 Programma completo: https://www.modenabimbi.it/wp-content/uploads/2025/12/Giostra-Antica-di-piazza-Roma-.pdf \nPer info:\ninfo@divertiamo.com
URL:https://www.modenabimbi.it/evento-singolo/giostra-antica-di-piazza-roma/2025-12-07/
LOCATION:Piazza Roma\, Modena
CATEGORIES:Animazione,Baby dance,Festa,Gioco,Post,Truccabimbi
ATTACH;FMTTYPE=image/jpeg:https://www.modenabimbi.it/wp-content/uploads/2025/12/Giostra-Antica-di-piazza-Roma--e1764605887483.jpg
END:VEVENT
BEGIN:VEVENT
DTSTART;TZID=Europe/Rome:20251207T103000
DTEND;TZID=Europe/Rome:20251207T190000
DTSTAMP:20260421T162902
CREATED:20251125T113657Z
LAST-MODIFIED:20251125T113657Z
UID:10004593-1765103400-1765134000@www.modenabimbi.it
SUMMARY:Auguri Soliera
DESCRIPTION:Mercatino natalizio\, stand gastronomici\, musica\, giochi e iniziative per famiglie. \nTUTTO IL GIORNO\n– Ufficio postale di Babbo Natale – Scrivi la letterina e fai una foto con Babbo Natale\n– Truccabimbi natalizio\n– Bancarelle di artigianato e stand gastronomici \nORE 10.30 | PIAZZA LUSVARDI\n– Babbo Natale arriva in 500 | Consegna di doni ai bambini e alle bambine. \nORE 11.30 E ORE 15.30 | CENTRO STORICO\n– Folli folletti | Spettacolo itinerante a cura di Nadordelanuit. \nORE 17.00 | BIBLIOTECA JUNIOR\n– Racconti tra le stelle | Narrazione a cura di Pina Irace per bambine e bambini dai 4 anni
URL:https://www.modenabimbi.it/evento-singolo/auguri-soliera/
LOCATION:Centro storico di Soliera\, Soliera
CATEGORIES:Animazione,Festa,Gioco,Laboratorio per bambini,Letture animate,Musica,Natale,Post
ATTACH;FMTTYPE=image/jpeg:https://www.modenabimbi.it/wp-content/uploads/2025/11/Auguri-Soliera-e1764070377157.jpg
ORGANIZER;CN="Fondazione Campori":MAILTO:info@fondazionecampori.it
END:VEVENT
BEGIN:VEVENT
DTSTART;VALUE=DATE:20251207
DTEND;VALUE=DATE:20251208
DTSTAMP:20260421T162902
CREATED:20251201T155850Z
LAST-MODIFIED:20251201T155850Z
UID:10004602-1765098000-1765126800@www.modenabimbi.it
SUMMARY:Casa della Befana
DESCRIPTION:In Largo San Francesco torna la casetta più amata dai bambini: la Casa della Befana\, un luogo magico dove ogni weekend – dal 6 dicembre al 6 gennaio – la simpatica vecchina accoglie bambini e famiglie con laboratori creativi\, letture\, animazioni\, concerti e tante attività dedicate ai più piccoli. \nOgni sabato pomeriggio e ogni domenica\, la casetta si anima grazie alla collaborazione con associazioni culturali\, artistiche e di volontariato della città\, creando un ricco cartellone di iniziative pensate per vivere la festa con gioia e condivisione.\nA rotazione troverai laboratori di burattini\, origami e fumetti\, letture animate\, spettacoli musicali\, truccabimbi\, giochi\, sfide natalizie e tanto altro\, fino all’arrivo della Befana e alla chiusura della rassegna. \nUn’occasione speciale per respirare l’atmosfera natalizia insieme\, tra magia\, creatività e sorrisi. \n👉 Programma completo: https://www.modenabimbi.it/wp-content/uploads/2025/12/Casa-della-Befana.pdf \nPer info:\ninfo@modenamoremio.it\n0598751179
URL:https://www.modenabimbi.it/evento-singolo/casa-della-befana/2025-12-07/
LOCATION:Largo San Francesco\, Modena
CATEGORIES:Animazione,Befana,Festa,Gioco,Laboratorio per bambini,Letture animate,Post,Spettacolo,Truccabimbi
ATTACH;FMTTYPE=image/jpeg:https://www.modenabimbi.it/wp-content/uploads/2025/12/Casa-della-Befana-e1764604459113.jpg
END:VEVENT
BEGIN:VEVENT
DTSTART;TZID=Europe/Rome:20251206T153000
DTEND;TZID=Europe/Rome:20251206T183000
DTSTAMP:20260421T162902
CREATED:20251201T161848Z
LAST-MODIFIED:20251213T124948Z
UID:10004627-1765035000-1765045800@www.modenabimbi.it
SUMMARY:Giostra Antica di piazza Roma
DESCRIPTION:Dal 21 novembre al 1° febbraio Piazza Roma si trasforma in un luogo incantato grazie alla Giostra Antica in stile Liberty\, con cavalli e carrozze originali in legno\, costruita da artigiani di Wiesbaden. Un’attrazione che profuma di tradizione\, capace di stupire i bambini di oggi e risvegliare i ricordi dei nonni e dei genitori di ieri. \nLa giostra sarà cuore pulsante della piazza\, con un’atmosfera romantica e festosa e animazioni gratuite dedicate ai più piccoli: maghi\, clown\, giocolieri\, truccabimbi\, sculture di palloncini\, laboratori creativi e baby dance. Una nuova tappa del Natale in centro storico\, insieme al Villaggio di Babbo Natale e alla Casa della Befana. \n🎄 Un modo speciale per vivere il Natale in città\, tra luci\, musica\, stupore e sorrisi. \n🎟️ Biglietto: €3\, gratuito accompagnatore in piedi. Abbonamento 4 biglietti €10. \n👉 Programma completo: https://www.modenabimbi.it/wp-content/uploads/2025/12/Giostra-Antica-di-piazza-Roma-.pdf \nPer info:\ninfo@divertiamo.com
URL:https://www.modenabimbi.it/evento-singolo/giostra-antica-di-piazza-roma/2025-12-06/
LOCATION:Piazza Roma\, Modena
CATEGORIES:Animazione,Baby dance,Festa,Gioco,Post,Truccabimbi
ATTACH;FMTTYPE=image/jpeg:https://www.modenabimbi.it/wp-content/uploads/2025/12/Giostra-Antica-di-piazza-Roma--e1764605887483.jpg
END:VEVENT
BEGIN:VEVENT
DTSTART;VALUE=DATE:20251206
DTEND;VALUE=DATE:20251207
DTSTAMP:20260421T162902
CREATED:20251201T155850Z
LAST-MODIFIED:20251201T155850Z
UID:10004601-1764979200-1765065599@www.modenabimbi.it
SUMMARY:Casa della Befana
DESCRIPTION:In Largo San Francesco torna la casetta più amata dai bambini: la Casa della Befana\, un luogo magico dove ogni weekend – dal 6 dicembre al 6 gennaio – la simpatica vecchina accoglie bambini e famiglie con laboratori creativi\, letture\, animazioni\, concerti e tante attività dedicate ai più piccoli. \nOgni sabato pomeriggio e ogni domenica\, la casetta si anima grazie alla collaborazione con associazioni culturali\, artistiche e di volontariato della città\, creando un ricco cartellone di iniziative pensate per vivere la festa con gioia e condivisione.\nA rotazione troverai laboratori di burattini\, origami e fumetti\, letture animate\, spettacoli musicali\, truccabimbi\, giochi\, sfide natalizie e tanto altro\, fino all’arrivo della Befana e alla chiusura della rassegna. \nUn’occasione speciale per respirare l’atmosfera natalizia insieme\, tra magia\, creatività e sorrisi. \n👉 Programma completo: https://www.modenabimbi.it/wp-content/uploads/2025/12/Casa-della-Befana.pdf \nPer info:\ninfo@modenamoremio.it\n0598751179
URL:https://www.modenabimbi.it/evento-singolo/casa-della-befana/2025-12-06/
LOCATION:Largo San Francesco\, Modena
CATEGORIES:Animazione,Befana,Festa,Gioco,Laboratorio per bambini,Letture animate,Post,Spettacolo,Truccabimbi
ATTACH;FMTTYPE=image/jpeg:https://www.modenabimbi.it/wp-content/uploads/2025/12/Casa-della-Befana-e1764604459113.jpg
END:VEVENT
BEGIN:VEVENT
DTSTART;TZID=Europe/Rome:20251130T110000
DTEND;TZID=Europe/Rome:20251130T170000
DTSTAMP:20260421T162902
CREATED:20251123T090014Z
LAST-MODIFIED:20251126T154254Z
UID:10004587-1764500400-1764522000@www.modenabimbi.it
SUMMARY:Festa dell'Avvento
DESCRIPTION:La festa dell’Avvento\, nella pedagogia Steiner-Waldorf\, è un momento speciale in cui grandi e piccoli possono ritrovare la meraviglia e senso di attesa.\nÈ un’occasione per condividere un’esperienza di gioia e calore\, organizzata dai genitori dell’Associazione. \nSan Michele e il Drago ti invita a partecipare a questo momento prezioso da vivere insieme\, per entrare nel tempo dell’Avvento.\nDurante la giornata\, a ingresso libero\, con momenti dedicati a bambini e adulti\, troverai:\n• AREA RISTORO per pranzo e merenda\n• LABORATORIO ADULTI per realizzare la tua corone dell’Avvento\n• LABORATORI BAMBINI curati dalla falegnameria e dal gruppo dei lavori manuali\n• MERCATINI Artistici\, Oggetti Artigianali\, Libri\, Materiale Didattico\, Abbigliamento e Giochi\n• PESCA E LOTTERIA \nLa festa si svolge presso sede TODI\ningresso attraverso la pista ciclabile di via g. Belli – quartiere Madonnina – Modena\n(guarda qui come raggiungerci) \nPer maggiori informazioni:\ninfo@scuolasteiner-modena.it\n3514003385
URL:https://www.modenabimbi.it/evento-singolo/festa-dellavvento/
LOCATION:Associazione San Michele e il Drago\, Via Giuseppe Gioacchino Belli (accesso dalla pista ciclabile di Via Belli dopo il civico 69. qui su google maps: https://maps.app.goo.gl/uKUAnzumNp3rrJQv6)\, Modena
CATEGORIES:Festa,Laboratorio per bambini,Laboratorio per genitori,Post
ATTACH;FMTTYPE=image/jpeg:https://www.modenabimbi.it/wp-content/uploads/2025/11/festa-dell-avvento-san-michele-e-il-drago.jpg
END:VEVENT
BEGIN:VEVENT
DTSTART;TZID=Europe/Rome:20251127T163000
DTEND;TZID=Europe/Rome:20251127T183000
DTSTAMP:20260421T162902
CREATED:20251119T130204Z
LAST-MODIFIED:20251126T151729Z
UID:10004484-1764261000-1764268200@www.modenabimbi.it
SUMMARY:Un pomeriggio a Lo Spazio Nuovo
DESCRIPTION:Un pomeriggio all’insegna della convivialità a Lo Spazio Nuovo\, luogo nel cuore di Piazza Cittadella\, che apre le porte ai bimbi e genitori che vorranno passare un pomeriggio in compagnia. Giochi a disposizione\, bar aperto e un luogo al calduccio dove stare insieme.\nDa un’idea de La Dama Dorè e degli amici di Idee in Circolo.\nVi aspettiamo!
URL:https://www.modenabimbi.it/evento-singolo/un-pomeriggio-a-lo-spazio-nuovo-2/
LOCATION:Lo Spazio Nuovo\, Viale IV Novembre 40b\, Modena
CATEGORIES:Bolle,Festa,Gioco
ATTACH;FMTTYPE=image/jpeg:https://www.modenabimbi.it/wp-content/uploads/2025/11/Un-pomeriggio-a-Lo-Spazio-Nuovo-2-e1764170239334.jpeg
END:VEVENT
END:VCALENDAR