BEGIN:VCALENDAR
VERSION:2.0
PRODID:-//ModenaBimbi - ECPv6.15.20//NONSGML v1.0//EN
CALSCALE:GREGORIAN
METHOD:PUBLISH
X-WR-CALNAME:ModenaBimbi
X-ORIGINAL-URL:https://www.modenabimbi.it
X-WR-CALDESC:Eventi per ModenaBimbi
REFRESH-INTERVAL;VALUE=DURATION:PT1H
X-Robots-Tag:noindex
X-PUBLISHED-TTL:PT1H
BEGIN:VTIMEZONE
TZID:Europe/Rome
BEGIN:DAYLIGHT
TZOFFSETFROM:+0100
TZOFFSETTO:+0200
TZNAME:CEST
DTSTART:20250330T010000
END:DAYLIGHT
BEGIN:STANDARD
TZOFFSETFROM:+0200
TZOFFSETTO:+0100
TZNAME:CET
DTSTART:20251026T010000
END:STANDARD
BEGIN:DAYLIGHT
TZOFFSETFROM:+0100
TZOFFSETTO:+0200
TZNAME:CEST
DTSTART:20260329T010000
END:DAYLIGHT
BEGIN:STANDARD
TZOFFSETFROM:+0200
TZOFFSETTO:+0100
TZNAME:CET
DTSTART:20261025T010000
END:STANDARD
BEGIN:DAYLIGHT
TZOFFSETFROM:+0100
TZOFFSETTO:+0200
TZNAME:CEST
DTSTART:20270328T010000
END:DAYLIGHT
BEGIN:STANDARD
TZOFFSETFROM:+0200
TZOFFSETTO:+0100
TZNAME:CET
DTSTART:20271031T010000
END:STANDARD
END:VTIMEZONE
BEGIN:VEVENT
DTSTART;TZID=Europe/Rome:20260508T163000
DTEND;TZID=Europe/Rome:20260508T183000
DTSTAMP:20260425T001138
CREATED:20260121T182126Z
LAST-MODIFIED:20260121T182126Z
UID:10004782-1778257800-1778265000@www.modenabimbi.it
SUMMARY:Officina Parsimonia
DESCRIPTION:“Officina parsimonia” è un insieme di laboratori\, giochi e letture animate sulla cultura del recupero\, con l’obiettivo di educare alla riduzione degli sprechi e a prestare maggiore attenzione alle conseguenze che il nostro stile di vita può avere sul pianeta.\nTutte le attività sono gratuite\, non necessitano di prenotazione e sono rivolte ai bambini e alle bambine dai 3 agli 8 anni con la presenza di un adulto.\nL’ambiente in cui si svolgono le attività dispone anche di un piccolo spazio morbido attrezzato per gli 0-2 anni.\nDate un’occhiata al programma in allegato per conoscere tutte le date. \nVenerdì 6 febbraio: creativamente\, laboratorio di riciclo creativo – laboratorio con materiali di recupero \nVenerdì 13 febbraio: storie di carta\, narrazioni animate \nVenerdì 20 febbraio: meraviglie a Km0 – laboratorio di scoperta della natura \nVenerdì 6 marzo: trash art! Arte e riciclo creativo – laboratorio d’arte \nVenerdì 20 marzo: meraviglie a Km0 – laboratorio di scoperta della natura \nVenerdì 10 aprile: trash art! Arte e riciclo creativo – laboratorio d’arte \nVenerdì 17 aprile: creativamente\, laboratorio di riciclo creativo – laboratorio con materiali di recupero \nVenerdì 24 aprile: meraviglie a Km0 – laboratorio di scoperta della natura \nVenerdì 8 maggio: trash art! Arte e riciclo creativo – laboratorio d’arte \nVenerdì 15 maggio: meraviglie a Km0 – laboratorio di scoperta della natura \nPer info:\ne.pomelli@lalumaca.org oppure 3201930764
URL:https://www.modenabimbi.it/evento-singolo/officina-parsimonia/2026-05-08/
LOCATION:Nido Biribicchio\, via Magellano 17\, Maranello
CATEGORIES:Laboratorio per bambini,Letture animate
ATTACH;FMTTYPE=image/jpeg:https://www.modenabimbi.it/wp-content/uploads/2025/11/officina-parsimonia-e1769019372961.jpg
END:VEVENT
BEGIN:VEVENT
DTSTART;TZID=Europe/Rome:20260515T163000
DTEND;TZID=Europe/Rome:20260515T183000
DTSTAMP:20260425T001138
CREATED:20260121T182126Z
LAST-MODIFIED:20260121T182126Z
UID:10004783-1778862600-1778869800@www.modenabimbi.it
SUMMARY:Officina Parsimonia
DESCRIPTION:“Officina parsimonia” è un insieme di laboratori\, giochi e letture animate sulla cultura del recupero\, con l’obiettivo di educare alla riduzione degli sprechi e a prestare maggiore attenzione alle conseguenze che il nostro stile di vita può avere sul pianeta.\nTutte le attività sono gratuite\, non necessitano di prenotazione e sono rivolte ai bambini e alle bambine dai 3 agli 8 anni con la presenza di un adulto.\nL’ambiente in cui si svolgono le attività dispone anche di un piccolo spazio morbido attrezzato per gli 0-2 anni.\nDate un’occhiata al programma in allegato per conoscere tutte le date. \nVenerdì 6 febbraio: creativamente\, laboratorio di riciclo creativo – laboratorio con materiali di recupero \nVenerdì 13 febbraio: storie di carta\, narrazioni animate \nVenerdì 20 febbraio: meraviglie a Km0 – laboratorio di scoperta della natura \nVenerdì 6 marzo: trash art! Arte e riciclo creativo – laboratorio d’arte \nVenerdì 20 marzo: meraviglie a Km0 – laboratorio di scoperta della natura \nVenerdì 10 aprile: trash art! Arte e riciclo creativo – laboratorio d’arte \nVenerdì 17 aprile: creativamente\, laboratorio di riciclo creativo – laboratorio con materiali di recupero \nVenerdì 24 aprile: meraviglie a Km0 – laboratorio di scoperta della natura \nVenerdì 8 maggio: trash art! Arte e riciclo creativo – laboratorio d’arte \nVenerdì 15 maggio: meraviglie a Km0 – laboratorio di scoperta della natura \nPer info:\ne.pomelli@lalumaca.org oppure 3201930764
URL:https://www.modenabimbi.it/evento-singolo/officina-parsimonia/2026-05-15/
LOCATION:Nido Biribicchio\, via Magellano 17\, Maranello
CATEGORIES:Laboratorio per bambini,Letture animate
ATTACH;FMTTYPE=image/jpeg:https://www.modenabimbi.it/wp-content/uploads/2025/11/officina-parsimonia-e1769019372961.jpg
END:VEVENT
END:VCALENDAR