BEGIN:VCALENDAR
VERSION:2.0
PRODID:-//ModenaBimbi - ECPv6.15.16.1//NONSGML v1.0//EN
CALSCALE:GREGORIAN
METHOD:PUBLISH
X-WR-CALNAME:ModenaBimbi
X-ORIGINAL-URL:https://www.modenabimbi.it
X-WR-CALDESC:Eventi per ModenaBimbi
REFRESH-INTERVAL;VALUE=DURATION:PT1H
X-Robots-Tag:noindex
X-PUBLISHED-TTL:PT1H
BEGIN:VTIMEZONE
TZID:Europe/Rome
BEGIN:DAYLIGHT
TZOFFSETFROM:+0100
TZOFFSETTO:+0200
TZNAME:CEST
DTSTART:20250330T010000
END:DAYLIGHT
BEGIN:STANDARD
TZOFFSETFROM:+0200
TZOFFSETTO:+0100
TZNAME:CET
DTSTART:20251026T010000
END:STANDARD
BEGIN:DAYLIGHT
TZOFFSETFROM:+0100
TZOFFSETTO:+0200
TZNAME:CEST
DTSTART:20260329T010000
END:DAYLIGHT
BEGIN:STANDARD
TZOFFSETFROM:+0200
TZOFFSETTO:+0100
TZNAME:CET
DTSTART:20261025T010000
END:STANDARD
BEGIN:DAYLIGHT
TZOFFSETFROM:+0100
TZOFFSETTO:+0200
TZNAME:CEST
DTSTART:20270328T010000
END:DAYLIGHT
BEGIN:STANDARD
TZOFFSETFROM:+0200
TZOFFSETTO:+0100
TZNAME:CET
DTSTART:20271031T010000
END:STANDARD
END:VTIMEZONE
BEGIN:VEVENT
DTSTART;TZID=Europe/Rome:20260530T153000
DTEND;TZID=Europe/Rome:20260530T203000
DTSTAMP:20260423T224229
CREATED:20260422T114129Z
LAST-MODIFIED:20260422T120806Z
UID:10006306-1780155000-1780173000@www.modenabimbi.it
SUMMARY:GP Auto a pedali - Tappa di Modena!
DESCRIPTION:Cos’è? \nL’evento si articola in due giornate\, sabato 30 maggio e domenica 31 maggio. \n\nPer ogni tappa viene allestito un circuito di gara con auto monoposto a pedali (fornite dalla organizzazione e di diverse misure).\nBambini\, bambine\, ragazzi e ragazze dai 3 ai 14 anni gareggiano in batterie differenziate per età. \nDurante la manifestazione saranno distribuiti premi\, medaglie e “patenti”. \n\n\nSvolgimento \n\n\n\n\nCASCO DA BICICLETTA OBBLIGATORIO (da portare da casa)  \n\n\n\n\nSABATO 30 maggio\nore 15.30 – 20.30: Accredito\, prove e gioco libero \n\n\n\n\nDOMENICA 31 Maggio\nore 10.00-13.00: Gare\, finali e semifinali categorie BABY e JUNIOR 1\nore 14.00-15.30: prove libere\nore 15.30-18.30: Gare\, finali e semifinali categorie JUNIOR 2 e BIG \n\n\n\n\n\n\n4 categorie in gara (miste) \n\nBABY (3-4 anni)\,\nJUNIOR 1 (5-8anni) \,\nJUNIOR2 (9-12 anni) \,\nBIG (12-15 anni)\n\n\n\n\n\n\nRegolamento \n– casco da bicicletta obbligatorio\n– abbigliamento sportivo e comodo\n– i genitori devono compilare la liberatoria\n– sia i bambini che i genitori devono rispettare il personale in servizio presso la manifestazione\n– il personale sulla pista decide come organizzare le batterie di gara e come posizionare i bambini sulle vetture\n– le medaglie vengono assegnate solo a chi si qualifica\n– le coppe non si possono acquistare\n– in caso di forte maltempo la tappa viene rimandata  o annullata (in caso di annullamento si rimborsa la quota di iscrizione) \nInfo complete\, iscrizioni e liberatorie sul sito
URL:https://www.modenabimbi.it/evento-singolo/gp-auto-a-pedali-tappa-di-modena/2026-05-30/
LOCATION:Parco Novi Sad\, Modena
CATEGORIES:Gioco
ATTACH;FMTTYPE=image/jpeg:https://www.modenabimbi.it/wp-content/uploads/2026/04/Modenabimbi-GP-auto-a-pedali-Modena-2026.jpg
END:VEVENT
BEGIN:VEVENT
DTSTART;TZID=Europe/Rome:20260531T100000
DTEND;TZID=Europe/Rome:20260531T183000
DTSTAMP:20260423T224229
CREATED:20260422T114129Z
LAST-MODIFIED:20260422T120806Z
UID:10006307-1780221600-1780252200@www.modenabimbi.it
SUMMARY:GP Auto a pedali - Tappa di Modena!
DESCRIPTION:Cos’è? \nL’evento si articola in due giornate\, sabato 30 maggio e domenica 31 maggio. \n\nPer ogni tappa viene allestito un circuito di gara con auto monoposto a pedali (fornite dalla organizzazione e di diverse misure).\nBambini\, bambine\, ragazzi e ragazze dai 3 ai 14 anni gareggiano in batterie differenziate per età. \nDurante la manifestazione saranno distribuiti premi\, medaglie e “patenti”. \n\n\nSvolgimento \n\n\n\n\nCASCO DA BICICLETTA OBBLIGATORIO (da portare da casa)  \n\n\n\n\nSABATO 30 maggio\nore 15.30 – 20.30: Accredito\, prove e gioco libero \n\n\n\n\nDOMENICA 31 Maggio\nore 10.00-13.00: Gare\, finali e semifinali categorie BABY e JUNIOR 1\nore 14.00-15.30: prove libere\nore 15.30-18.30: Gare\, finali e semifinali categorie JUNIOR 2 e BIG \n\n\n\n\n\n\n4 categorie in gara (miste) \n\nBABY (3-4 anni)\,\nJUNIOR 1 (5-8anni) \,\nJUNIOR2 (9-12 anni) \,\nBIG (12-15 anni)\n\n\n\n\n\n\nRegolamento \n– casco da bicicletta obbligatorio\n– abbigliamento sportivo e comodo\n– i genitori devono compilare la liberatoria\n– sia i bambini che i genitori devono rispettare il personale in servizio presso la manifestazione\n– il personale sulla pista decide come organizzare le batterie di gara e come posizionare i bambini sulle vetture\n– le medaglie vengono assegnate solo a chi si qualifica\n– le coppe non si possono acquistare\n– in caso di forte maltempo la tappa viene rimandata  o annullata (in caso di annullamento si rimborsa la quota di iscrizione) \nInfo complete\, iscrizioni e liberatorie sul sito
URL:https://www.modenabimbi.it/evento-singolo/gp-auto-a-pedali-tappa-di-modena/2026-05-31/
LOCATION:Parco Novi Sad\, Modena
CATEGORIES:Gioco
ATTACH;FMTTYPE=image/jpeg:https://www.modenabimbi.it/wp-content/uploads/2026/04/Modenabimbi-GP-auto-a-pedali-Modena-2026.jpg
END:VEVENT
END:VCALENDAR