BEGIN:VCALENDAR
VERSION:2.0
PRODID:-//ModenaBimbi - ECPv6.15.16.1//NONSGML v1.0//EN
CALSCALE:GREGORIAN
METHOD:PUBLISH
X-WR-CALNAME:ModenaBimbi
X-ORIGINAL-URL:https://www.modenabimbi.it
X-WR-CALDESC:Eventi per ModenaBimbi
REFRESH-INTERVAL;VALUE=DURATION:PT1H
X-Robots-Tag:noindex
X-PUBLISHED-TTL:PT1H
BEGIN:VTIMEZONE
TZID:Europe/Rome
BEGIN:DAYLIGHT
TZOFFSETFROM:+0100
TZOFFSETTO:+0200
TZNAME:CEST
DTSTART:20250330T010000
END:DAYLIGHT
BEGIN:STANDARD
TZOFFSETFROM:+0200
TZOFFSETTO:+0100
TZNAME:CET
DTSTART:20251026T010000
END:STANDARD
BEGIN:DAYLIGHT
TZOFFSETFROM:+0100
TZOFFSETTO:+0200
TZNAME:CEST
DTSTART:20260329T010000
END:DAYLIGHT
BEGIN:STANDARD
TZOFFSETFROM:+0200
TZOFFSETTO:+0100
TZNAME:CET
DTSTART:20261025T010000
END:STANDARD
BEGIN:DAYLIGHT
TZOFFSETFROM:+0100
TZOFFSETTO:+0200
TZNAME:CEST
DTSTART:20270328T010000
END:DAYLIGHT
BEGIN:STANDARD
TZOFFSETFROM:+0200
TZOFFSETTO:+0100
TZNAME:CET
DTSTART:20271031T010000
END:STANDARD
END:VTIMEZONE
BEGIN:VEVENT
DTSTART;TZID=Europe/Rome:20260504T170000
DTEND;TZID=Europe/Rome:20260504T183000
DTSTAMP:20260424T010236
CREATED:20260423T155638Z
LAST-MODIFIED:20260423T155638Z
UID:10006308-1777914000-1777919400@www.modenabimbi.it
SUMMARY:Quanto bene ti voglio! Laboratori creativi per la festa della mamma
DESCRIPTION:Lunedì 4 maggio ore 17.00\ndai 9 ai 12 anni (4°-5° ​sc. primaria\, 1° sec.) \n​Martedì 5 e giovedì 7 maggio ore 17.00\n​dai 6 agli 8 anni (1°\, 2° e 3° sc. primaria) \n​Sabato 9 maggio ore 10.00\n​dai 4 ai 5 anni (infanzia)\nè richiesta la presenza di un adulto.
URL:https://www.modenabimbi.it/evento-singolo/quanto-bene-ti-voglio-laboratori-creativi-per-la-festa-della-mamma/2026-05-04/
LOCATION:Ludoteca Barone Rosso\, Via Silvio Pellico\, 9\, Fiorano Modenese
CATEGORIES:Laboratorio per bambini,Post
ATTACH;FMTTYPE=image/jpeg:https://www.modenabimbi.it/wp-content/uploads/2026/04/69ea3edd07a46.jpg
END:VEVENT
BEGIN:VEVENT
DTSTART;TZID=Europe/Rome:20260505T170000
DTEND;TZID=Europe/Rome:20260505T183000
DTSTAMP:20260424T010236
CREATED:20260423T155638Z
LAST-MODIFIED:20260423T155638Z
UID:10006309-1778000400-1778005800@www.modenabimbi.it
SUMMARY:Quanto bene ti voglio! Laboratori creativi per la festa della mamma
DESCRIPTION:Lunedì 4 maggio ore 17.00\ndai 9 ai 12 anni (4°-5° ​sc. primaria\, 1° sec.) \n​Martedì 5 e giovedì 7 maggio ore 17.00\n​dai 6 agli 8 anni (1°\, 2° e 3° sc. primaria) \n​Sabato 9 maggio ore 10.00\n​dai 4 ai 5 anni (infanzia)\nè richiesta la presenza di un adulto.
URL:https://www.modenabimbi.it/evento-singolo/quanto-bene-ti-voglio-laboratori-creativi-per-la-festa-della-mamma/2026-05-05/
LOCATION:Ludoteca Barone Rosso\, Via Silvio Pellico\, 9\, Fiorano Modenese
CATEGORIES:Laboratorio per bambini,Post
ATTACH;FMTTYPE=image/jpeg:https://www.modenabimbi.it/wp-content/uploads/2026/04/69ea3edd07a46.jpg
END:VEVENT
BEGIN:VEVENT
DTSTART;TZID=Europe/Rome:20260507T170000
DTEND;TZID=Europe/Rome:20260507T183000
DTSTAMP:20260424T010236
CREATED:20260423T155638Z
LAST-MODIFIED:20260423T155638Z
UID:10006310-1778173200-1778178600@www.modenabimbi.it
SUMMARY:Quanto bene ti voglio! Laboratori creativi per la festa della mamma
DESCRIPTION:Lunedì 4 maggio ore 17.00\ndai 9 ai 12 anni (4°-5° ​sc. primaria\, 1° sec.) \n​Martedì 5 e giovedì 7 maggio ore 17.00\n​dai 6 agli 8 anni (1°\, 2° e 3° sc. primaria) \n​Sabato 9 maggio ore 10.00\n​dai 4 ai 5 anni (infanzia)\nè richiesta la presenza di un adulto.
URL:https://www.modenabimbi.it/evento-singolo/quanto-bene-ti-voglio-laboratori-creativi-per-la-festa-della-mamma/2026-05-07/
LOCATION:Ludoteca Barone Rosso\, Via Silvio Pellico\, 9\, Fiorano Modenese
CATEGORIES:Laboratorio per bambini,Post
ATTACH;FMTTYPE=image/jpeg:https://www.modenabimbi.it/wp-content/uploads/2026/04/69ea3edd07a46.jpg
END:VEVENT
BEGIN:VEVENT
DTSTART;TZID=Europe/Rome:20260509T100000
DTEND;TZID=Europe/Rome:20260509T113000
DTSTAMP:20260424T010236
CREATED:20260423T155638Z
LAST-MODIFIED:20260423T155638Z
UID:10006311-1778320800-1778326200@www.modenabimbi.it
SUMMARY:Quanto bene ti voglio! Laboratori creativi per la festa della mamma
DESCRIPTION:Lunedì 4 maggio ore 17.00\ndai 9 ai 12 anni (4°-5° ​sc. primaria\, 1° sec.) \n​Martedì 5 e giovedì 7 maggio ore 17.00\n​dai 6 agli 8 anni (1°\, 2° e 3° sc. primaria) \n​Sabato 9 maggio ore 10.00\n​dai 4 ai 5 anni (infanzia)\nè richiesta la presenza di un adulto.
URL:https://www.modenabimbi.it/evento-singolo/quanto-bene-ti-voglio-laboratori-creativi-per-la-festa-della-mamma/2026-05-09/
LOCATION:Ludoteca Barone Rosso\, Via Silvio Pellico\, 9\, Fiorano Modenese
CATEGORIES:Laboratorio per bambini,Post
ATTACH;FMTTYPE=image/jpeg:https://www.modenabimbi.it/wp-content/uploads/2026/04/69ea3edd07a46.jpg
END:VEVENT
END:VCALENDAR