BEGIN:VCALENDAR
VERSION:2.0
PRODID:-//ModenaBimbi - ECPv6.15.16.1//NONSGML v1.0//EN
CALSCALE:GREGORIAN
METHOD:PUBLISH
X-WR-CALNAME:ModenaBimbi
X-ORIGINAL-URL:https://www.modenabimbi.it
X-WR-CALDESC:Eventi per ModenaBimbi
REFRESH-INTERVAL;VALUE=DURATION:PT1H
X-Robots-Tag:noindex
X-PUBLISHED-TTL:PT1H
BEGIN:VTIMEZONE
TZID:Europe/Rome
BEGIN:DAYLIGHT
TZOFFSETFROM:+0100
TZOFFSETTO:+0200
TZNAME:CEST
DTSTART:20250330T010000
END:DAYLIGHT
BEGIN:STANDARD
TZOFFSETFROM:+0200
TZOFFSETTO:+0100
TZNAME:CET
DTSTART:20251026T010000
END:STANDARD
BEGIN:DAYLIGHT
TZOFFSETFROM:+0100
TZOFFSETTO:+0200
TZNAME:CEST
DTSTART:20260329T010000
END:DAYLIGHT
BEGIN:STANDARD
TZOFFSETFROM:+0200
TZOFFSETTO:+0100
TZNAME:CET
DTSTART:20261025T010000
END:STANDARD
BEGIN:DAYLIGHT
TZOFFSETFROM:+0100
TZOFFSETTO:+0200
TZNAME:CEST
DTSTART:20270328T010000
END:DAYLIGHT
BEGIN:STANDARD
TZOFFSETFROM:+0200
TZOFFSETTO:+0100
TZNAME:CET
DTSTART:20271031T010000
END:STANDARD
END:VTIMEZONE
BEGIN:VEVENT
DTSTART;TZID=Europe/Rome:20260511T170000
DTEND;TZID=Europe/Rome:20260511T183000
DTSTAMP:20260423T224124
CREATED:20260423T160050Z
LAST-MODIFIED:20260423T160050Z
UID:10006312-1778518800-1778524200@www.modenabimbi.it
SUMMARY:GIOCHIAMO INSIEME. Giochi da tavolo scelti e spiegati dalle ludotecarie
DESCRIPTION:Lunedì 11 maggio ore 17.00\ndai 9 ai 12 anni (4°\, 5° sc. primaria\, 1° sc. secondaria) \nMartedì 12 maggio ore 17.00\ndai 6 agli 8 anni (1°\, 2°\, 3° sc. primaria)
URL:https://www.modenabimbi.it/evento-singolo/giochiamo-insieme-giochi-da-tavolo-scelti-e-spiegati-dalle-ludotecarie/2026-05-11/
LOCATION:Ludoteca Barone Rosso\, Via Silvio Pellico\, 9\, Fiorano Modenese
CATEGORIES:Giochi da tavolo,Gioco
ATTACH;FMTTYPE=image/jpeg:https://www.modenabimbi.it/wp-content/uploads/2026/04/69ea3f6c4e598.jpg
END:VEVENT
BEGIN:VEVENT
DTSTART;TZID=Europe/Rome:20260512T170000
DTEND;TZID=Europe/Rome:20260512T183000
DTSTAMP:20260423T224124
CREATED:20260423T160050Z
LAST-MODIFIED:20260423T160050Z
UID:10006313-1778605200-1778610600@www.modenabimbi.it
SUMMARY:GIOCHIAMO INSIEME. Giochi da tavolo scelti e spiegati dalle ludotecarie
DESCRIPTION:Lunedì 11 maggio ore 17.00\ndai 9 ai 12 anni (4°\, 5° sc. primaria\, 1° sc. secondaria) \nMartedì 12 maggio ore 17.00\ndai 6 agli 8 anni (1°\, 2°\, 3° sc. primaria)
URL:https://www.modenabimbi.it/evento-singolo/giochiamo-insieme-giochi-da-tavolo-scelti-e-spiegati-dalle-ludotecarie/2026-05-12/
LOCATION:Ludoteca Barone Rosso\, Via Silvio Pellico\, 9\, Fiorano Modenese
CATEGORIES:Giochi da tavolo,Gioco
ATTACH;FMTTYPE=image/jpeg:https://www.modenabimbi.it/wp-content/uploads/2026/04/69ea3f6c4e598.jpg
END:VEVENT
END:VCALENDAR